Workbook

Sheet Остатки
A1: Журнал учёта цветов — остатки
A2: Впишите цветы в колонку A. Остальное считается само по листам «Приход», «Продажи», «Списания».
A4: Цветок | B4: Пришло, шт. | C4: Продано, шт. | D4: Списано, шт. | E4: Остаток, шт. | F4: Средняя закупочная цена | G4: Сумма остатка | H4: Сумма списаний
A5: Роза Эквадор 60 см | B5: =IF(A5="","",SUMIF('Приход'!$C$5:$C$304,A5,'Приход'!$D$5:$D$304)) | C5: =IF(A5="","",SUMIF('Продажи'!$B$5:$B$304,A5,'Продажи'!$C$5:$C$304)) | D5: =IF(A5="","",SUMIF('Списания'!$B$5:$B$304,A5,'Списания'!$C$5:$C$304)) | E5: =IF(A5="","",B5-C5-D5) | F5: =IF(OR(A5="",B5=0),"",SUMIF('Приход'!$C$5:$C$304,A5,'Приход'!$F$5:$F$304)/B5) | G5: =IF(OR(A5="",F5=""),"",E5*F5) | H5: =IF(OR(A5="",F5=""),"",D5*F5)
A6: Хризантема кустовая | B6: =IF(A6="","",SUMIF('Приход'!$C$5:$C$304,A6,'Приход'!$D$5:$D$304)) | C6: =IF(A6="","",SUMIF('Продажи'!$B$5:$B$304,A6,'Продажи'!$C$5:$C$304)) | D6: =IF(A6="","",SUMIF('Списания'!$B$5:$B$304,A6,'Списания'!$C$5:$C$304)) | E6: =IF(A6="","",B6-C6-D6) | F6: =IF(OR(A6="",B6=0),"",SUMIF('Приход'!$C$5:$C$304,A6,'Приход'!$F$5:$F$304)/B6) | G6: =IF(OR(A6="",F6=""),"",E6*F6) | H6: =IF(OR(A6="",F6=""),"",D6*F6)
A7: Альстромерия | B7: =IF(A7="","",SUMIF('Приход'!$C$5:$C$304,A7,'Приход'!$D$5:$D$304)) | C7: =IF(A7="","",SUMIF('Продажи'!$B$5:$B$304,A7,'Продажи'!$C$5:$C$304)) | D7: =IF(A7="","",SUMIF('Списания'!$B$5:$B$304,A7,'Списания'!$C$5:$C$304)) | E7: =IF(A7="","",B7-C7-D7) | F7: =IF(OR(A7="",B7=0),"",SUMIF('Приход'!$C$5:$C$304,A7,'Приход'!$F$5:$F$304)/B7) | G7: =IF(OR(A7="",F7=""),"",E7*F7) | H7: =IF(OR(A7="",F7=""),"",D7*F7)
A8: Эвкалипт (зелень) | B8: =IF(A8="","",SUMIF('Приход'!$C$5:$C$304,A8,'Приход'!$D$5:$D$304)) | C8: =IF(A8="","",SUMIF('Продажи'!$B$5:$B$304,A8,'Продажи'!$C$5:$C$304)) | D8: =IF(A8="","",SUMIF('Списания'!$B$5:$B$304,A8,'Списания'!$C$5:$C$304)) | E8: =IF(A8="","",B8-C8-D8) | F8: =IF(OR(A8="",B8=0),"",SUMIF('Приход'!$C$5:$C$304,A8,'Приход'!$F$5:$F$304)/B8) | G8: =IF(OR(A8="",F8=""),"",E8*F8) | H8: =IF(OR(A8="",F8=""),"",D8*F8)
B9: =IF(A9="","",SUMIF('Приход'!$C$5:$C$304,A9,'Приход'!$D$5:$D$304)) | C9: =IF(A9="","",SUMIF('Продажи'!$B$5:$B$304,A9,'Продажи'!$C$5:$C$304)) | D9: =IF(A9="","",SUMIF('Списания'!$B$5:$B$304,A9,'Списания'!$C$5:$C$304)) | E9: =IF(A9="","",B9-C9-D9) | F9: =IF(OR(A9="",B9=0),"",SUMIF('Приход'!$C$5:$C$304,A9,'Приход'!$F$5:$F$304)/B9) | G9: =IF(OR(A9="",F9=""),"",E9*F9) | H9: =IF(OR(A9="",F9=""),"",D9*F9)
B10: =IF(A10="","",SUMIF('Приход'!$C$5:$C$304,A10,'Приход'!$D$5:$D$304)) | C10: =IF(A10="","",SUMIF('Продажи'!$B$5:$B$304,A10,'Продажи'!$C$5:$C$304)) | D10: =IF(A10="","",SUMIF('Списания'!$B$5:$B$304,A10,'Списания'!$C$5:$C$304)) | E10: =IF(A10="","",B10-C10-D10) | F10: =IF(OR(A10="",B10=0),"",SUMIF('Приход'!$C$5:$C$304,A10,'Приход'!$F$5:$F$304)/B10) | G10: =IF(OR(A10="",F10=""),"",E10*F10) | H10: =IF(OR(A10="",F10=""),"",D10*F10)
B11: =IF(A11="","",SUMIF('Приход'!$C$5:$C$304,A11,'Приход'!$D$5:$D$304)) | C11: =IF(A11="","",SUMIF('Продажи'!$B$5:$B$304,A11,'Продажи'!$C$5:$C$304)) | D11: =IF(A11="","",SUMIF('Списания'!$B$5:$B$304,A11,'Списания'!$C$5:$C$304)) | E11: =IF(A11="","",B11-C11-D11) | F11: =IF(OR(A11="",B11=0),"",SUMIF('Приход'!$C$5:$C$304,A11,'Приход'!$F$5:$F$304)/B11) | G11: =IF(OR(A11="",F11=""),"",E11*F11) | H11: =IF(OR(A11="",F11=""),"",D11*F11)
B12: =IF(A12="","",SUMIF('Приход'!$C$5:$C$304,A12,'Приход'!$D$5:$D$304)) | C12: =IF(A12="","",SUMIF('Продажи'!$B$5:$B$304,A12,'Продажи'!$C$5:$C$304)) | D12: =IF(A12="","",SUMIF('Списания'!$B$5:$B$304,A12,'Списания'!$C$5:$C$304)) | E12: =IF(A12="","",B12-C12-D12) | F12: =IF(OR(A12="",B12=0),"",SUMIF('Приход'!$C$5:$C$304,A12,'Приход'!$F$5:$F$304)/B12) | G12: =IF(OR(A12="",F12=""),"",E12*F12) | H12: =IF(OR(A12="",F12=""),"",D12*F12)
B13: =IF(A13="","",SUMIF('Приход'!$C$5:$C$304,A13,'Приход'!$D$5:$D$304)) | C13: =IF(A13="","",SUMIF('Продажи'!$B$5:$B$304,A13,'Продажи'!$C$5:$C$304)) | D13: =IF(A13="","",SUMIF('Списания'!$B$5:$B$304,A13,'Списания'!$C$5:$C$304)) | E13: =IF(A13="","",B13-C13-D13) | F13: =IF(OR(A13="",B13=0),"",SUMIF('Приход'!$C$5:$C$304,A13,'Приход'!$F$5:$F$304)/B13) | G13: =IF(OR(A13="",F13=""),"",E13*F13) | H13: =IF(OR(A13="",F13=""),"",D13*F13)
B14: =IF(A14="","",SUMIF('Приход'!$C$5:$C$304,A14,'Приход'!$D$5:$D$304)) | C14: =IF(A14="","",SUMIF('Продажи'!$B$5:$B$304,A14,'Продажи'!$C$5:$C$304)) | D14: =IF(A14="","",SUMIF('Списания'!$B$5:$B$304,A14,'Списания'!$C$5:$C$304)) | E14: =IF(A14="","",B14-C14-D14) | F14: =IF(OR(A14="",B14=0),"",SUMIF('Приход'!$C$5:$C$304,A14,'Приход'!$F$5:$F$304)/B14) | G14: =IF(OR(A14="",F14=""),"",E14*F14) | H14: =IF(OR(A14="",F14=""),"",D14*F14)
B15: =IF(A15="","",SUMIF('Приход'!$C$5:$C$304,A15,'Приход'!$D$5:$D$304)) | C15: =IF(A15="","",SUMIF('Продажи'!$B$5:$B$304,A15,'Продажи'!$C$5:$C$304)) | D15: =IF(A15="","",SUMIF('Списания'!$B$5:$B$304,A15,'Списания'!$C$5:$C$304)) | E15: =IF(A15="","",B15-C15-D15) | F15: =IF(OR(A15="",B15=0),"",SUMIF('Приход'!$C$5:$C$304,A15,'Приход'!$F$5:$F$304)/B15) | G15: =IF(OR(A15="",F15=""),"",E15*F15) | H15: =IF(OR(A15="",F15=""),"",D15*F15)
B16: =IF(A16="","",SUMIF('Приход'!$C$5:$C$304,A16,'Приход'!$D$5:$D$304)) | C16: =IF(A16="","",SUMIF('Продажи'!$B$5:$B$304,A16,'Продажи'!$C$5:$C$304)) | D16: =IF(A16="","",SUMIF('Списания'!$B$5:$B$304,A16,'Списания'!$C$5:$C$304)) | E16: =IF(A16="","",B16-C16-D16) | F16: =IF(OR(A16="",B16=0),"",SUMIF('Приход'!$C$5:$C$304,A16,'Приход'!$F$5:$F$304)/B16) | G16: =IF(OR(A16="",F16=""),"",E16*F16) | H16: =IF(OR(A16="",F16=""),"",D16*F16)
B17: =IF(A17="","",SUMIF('Приход'!$C$5:$C$304,A17,'Приход'!$D$5:$D$304)) | C17: =IF(A17="","",SUMIF('Продажи'!$B$5:$B$304,A17,'Продажи'!$C$5:$C$304)) | D17: =IF(A17="","",SUMIF('Списания'!$B$5:$B$304,A17,'Списания'!$C$5:$C$304)) | E17: =IF(A17="","",B17-C17-D17) | F17: =IF(OR(A17="",B17=0),"",SUMIF('Приход'!$C$5:$C$304,A17,'Приход'!$F$5:$F$304)/B17) | G17: =IF(OR(A17="",F17=""),"",E17*F17) | H17: =IF(OR(A17="",F17=""),"",D17*F17)
B18: =IF(A18="","",SUMIF('Приход'!$C$5:$C$304,A18,'Приход'!$D$5:$D$304)) | C18: =IF(A18="","",SUMIF('Продажи'!$B$5:$B$304,A18,'Продажи'!$C$5:$C$304)) | D18: =IF(A18="","",SUMIF('Списания'!$B$5:$B$304,A18,'Списания'!$C$5:$C$304)) | E18: =IF(A18="","",B18-C18-D18) | F18: =IF(OR(A18="",B18=0),"",SUMIF('Приход'!$C$5:$C$304,A18,'Приход'!$F$5:$F$304)/B18) | G18: =IF(OR(A18="",F18=""),"",E18*F18) | H18: =IF(OR(A18="",F18=""),"",D18*F18)
B19: =IF(A19="","",SUMIF('Приход'!$C$5:$C$304,A19,'Приход'!$D$5:$D$304)) | C19: =IF(A19="","",SUMIF('Продажи'!$B$5:$B$304,A19,'Продажи'!$C$5:$C$304)) | D19: =IF(A19="","",SUMIF('Списания'!$B$5:$B$304,A19,'Списания'!$C$5:$C$304)) | E19: =IF(A19="","",B19-C19-D19) | F19: =IF(OR(A19="",B19=0),"",SUMIF('Приход'!$C$5:$C$304,A19,'Приход'!$F$5:$F$304)/B19) | G19: =IF(OR(A19="",F19=""),"",E19*F19) | H19: =IF(OR(A19="",F19=""),"",D19*F19)
B20: =IF(A20="","",SUMIF('Приход'!$C$5:$C$304,A20,'Приход'!$D$5:$D$304)) | C20: =IF(A20="","",SUMIF('Продажи'!$B$5:$B$304,A20,'Продажи'!$C$5:$C$304)) | D20: =IF(A20="","",SUMIF('Списания'!$B$5:$B$304,A20,'Списания'!$C$5:$C$304)) | E20: =IF(A20="","",B20-C20-D20) | F20: =IF(OR(A20="",B20=0),"",SUMIF('Приход'!$C$5:$C$304,A20,'Приход'!$F$5:$F$304)/B20) | G20: =IF(OR(A20="",F20=""),"",E20*F20) | H20: =IF(OR(A20="",F20=""),"",D20*F20)
... B44: =IF(A44="","",SUMIF('Приход'!$C$5:$C$304,A44,'Приход'!$D$5:$D$304)) | C44: =IF(A44="","",SUMIF('Продажи'!$B$5:$B$304,A44,'Продажи'!$C$5:$C$304)) | D44: =IF(A44="","",SUMIF('Списания'!$B$5:$B$304,A44,'Списания'!$C$5:$C$304)) | E44: =IF(A44="","",B44-C44-D44) | F44: =IF(OR(A44="",B44=0),"",SUMIF('Приход'!$C$5:$C$304,A44,'Приход'!$F$5:$F$304)/B44) | G44: =IF(OR(A44="",F44=""),"",E44*F44) | H44: =IF(OR(A44="",F44=""),"",D44*F44)
A45: Итого | G45: =SUM(G5:G44) | H45: =SUM(H5:H44)

Sheet Приход
A1: Приход цветов
A2: Каждая поставка — строкой. Название цветка — как на листе «Остатки».
A4: Дата | B4: Поставщик | C4: Цветок | D4: Количество, шт. | E4: Цена за шт. | F4: Сумма
B5: Пример поставщика | C5: Роза Эквадор 60 см | D5: 50 | E5: 90 | F5: =IF(OR(D5="",E5=""),"",D5*E5)
B6: Пример поставщика | C6: Хризантема кустовая | D6: 50 | E6: 120 | F6: =IF(OR(D6="",E6=""),"",D6*E6)
B7: Пример поставщика | C7: Альстромерия | D7: 50 | E7: 80 | F7: =IF(OR(D7="",E7=""),"",D7*E7)
B8: Пример поставщика | C8: Эвкалипт (зелень) | D8: 50 | E8: 60 | F8: =IF(OR(D8="",E8=""),"",D8*E8)
F9: =IF(OR(D9="",E9=""),"",D9*E9)
F10: =IF(OR(D10="",E10=""),"",D10*E10)
F11: =IF(OR(D11="",E11=""),"",D11*E11)
F12: =IF(OR(D12="",E12=""),"",D12*E12)
F13: =IF(OR(D13="",E13=""),"",D13*E13)
F14: =IF(OR(D14="",E14=""),"",D14*E14)
F15: =IF(OR(D15="",E15=""),"",D15*E15)
F16: =IF(OR(D16="",E16=""),"",D16*E16)
F17: =IF(OR(D17="",E17=""),"",D17*E17)
F18: =IF(OR(D18="",E18=""),"",D18*E18)
F19: =IF(OR(D19="",E19=""),"",D19*E19)
F20: =IF(OR(D20="",E20=""),"",D20*E20)
... F304: =IF(OR(D304="",E304=""),"",D304*E304)

Sheet Продажи
A1: Продажи
A2: В конце дня: сколько каждого цветка ушло в букеты и поштучно.
A4: Дата | B4: Цветок | C4: Количество, шт. | D4: Комментарий
B5: Роза Эквадор 60 см | C5: 25

Sheet Списания
A1: Списания
A2: Увядшие, сломанные и недостача — с причиной.
A4: Дата | B4: Цветок | C4: Количество, шт. | D4: Причина | E4: Комментарий
B5: Роза Эквадор 60 см | C5: 3 | D5: Увядание
